BEGIN:VCALENDAR
VERSION:2.0
PRODID:-//wp-events-plugin.com//6.6.4.4//EN
TZID:Europe/Madrid
X-WR-TIMEZONE:Europe/Madrid
BEGIN:VEVENT
UID:100@caminoscantabria.com
DTSTART;TZID=Europe/Madrid:20250408T183000
DTEND;TZID=Europe/Madrid:20250408T201500
DTSTAMP:20250325T143446Z
URL:https://caminoscantabria.com/events/8798/
SUMMARY:Ingeniería y Gastronomía: Agustín de Betancourt
DESCRIPTION:Ingeniería y Gastronomía: Agustín de Betancourt\n\nNOTICIA
ATTACH;FMTTYPE=image/jpeg:https://caminoscantabria.com/wp-content/uploads/
 2025/03/Agustin-de-Betancort-1.png
CATEGORIES:Ingeniería y gastronomía
END:VEVENT
BEGIN:VTIMEZONE
TZID:Europe/Madrid
X-LIC-LOCATION:Europe/Madrid
BEGIN:DAYLIGHT
DTSTART:20250330T030000
TZOFFSETFROM:+0100
TZOFFSETTO:+0200
TZNAME:CEST
END:DAYLIGHT
END:VTIMEZONE
END:VCALENDAR