BEGIN:VCALENDAR
VERSION:2.0
PRODID:-//wp-events-plugin.com//6.6.4.4//EN
TZID:Europe/Madrid
X-WR-TIMEZONE:Europe/Madrid
BEGIN:VEVENT
UID:49@caminoscantabria.com
DTSTART;TZID=Europe/Madrid:20240511T210000
DTEND;TZID=Europe/Madrid:20240511T230000
DTSTAMP:20240502T080008Z
URL:https://caminoscantabria.com/events/cena-de-santo-domingo-de-la-calzad
 a/
SUMMARY:Cena de Santo Domingo de la Calzada
DESCRIPTION:La Demarcación de Cantabria del Colegio de Ingenieros de Camin
 os\, Canales y Puertos celebrará su tradicional cena de Santo Domingo de
  la Calzada el próximo sábado 11 de mayo a las 21:00 horas en el Hotel
  Chiqui de Santander.\n\n&nbsp\;\n\nNOTICIA Y RESERVAS
ATTACH;FMTTYPE=image/jpeg:https://caminoscantabria.com/wp-content/uploads/
 2024/04/cena-ciccp-2024.png
CATEGORIES:Cena patrono
END:VEVENT
BEGIN:VTIMEZONE
TZID:Europe/Madrid
X-LIC-LOCATION:Europe/Madrid
BEGIN:DAYLIGHT
DTSTART:20240331T030000
TZOFFSETFROM:+0100
TZOFFSETTO:+0200
TZNAME:CEST
END:DAYLIGHT
END:VTIMEZONE
END:VCALENDAR