BEGIN:VCALENDAR
VERSION:2.0
PRODID:-//wp-events-plugin.com//6.6.4.4//EN
TZID:Europe/Madrid
X-WR-TIMEZONE:Europe/Madrid
BEGIN:VEVENT
UID:4@caminoscantabria.com
DTSTART;TZID=Europe/Madrid:20230513T210000
DTEND;TZID=Europe/Madrid:20230513T210000
DTSTAMP:20230404T111323Z
URL:https://caminoscantabria.com/events/cena-del-patrono-santo-domingo-de-
 la-calzada-2/
SUMMARY:Cena del patrono Santo Domingo de la Calzada
DESCRIPTION:El día 13 de mayo la Demarcación de Cantabria del Colegio de 
 Ingenieros de Caminos\, Canales y Puertos volverá a celebrar su tradicion
 al cena del patrono Santo Domingo de la Calzada\, hasta ahora cancelada co
 n motivo de la pandemia de la Covid-19. El encuentro tendrá lugar en el H
 otel Chiqui a partir de las 21.00 horas.
ATTACH;FMTTYPE=image/jpeg:https://caminoscantabria.com/wp-content/uploads/
 2023/01/patrono-santo-domingo-de-la-calzada.png
CATEGORIES:Cena patrono
END:VEVENT
BEGIN:VTIMEZONE
TZID:Europe/Madrid
X-LIC-LOCATION:Europe/Madrid
BEGIN:DAYLIGHT
DTSTART:20230326T030000
TZOFFSETFROM:+0100
TZOFFSETTO:+0200
TZNAME:CEST
END:DAYLIGHT
END:VTIMEZONE
END:VCALENDAR