BEGIN:VCALENDAR
VERSION:2.0
PRODID:-//wp-events-plugin.com//6.6.4.4//EN
TZID:Europe/Madrid
X-WR-TIMEZONE:Europe/Madrid
BEGIN:VEVENT
UID:5@caminoscantabria.com
DTSTART;TZID=Europe/Madrid;VALUE=DATE:20230214
DTEND;TZID=Europe/Madrid;VALUE=DATE:20230216
DTSTAMP:20230213T095954Z
URL:https://caminoscantabria.com/events/eneic-2023-2/
SUMMARY:ENEIC 2023
DESCRIPTION:XVII Encuentro de Empresas de Ingeniería Civil
ATTACH;FMTTYPE=image/jpeg:https://caminoscantabria.com/wp-content/uploads/
 2023/02/ENEIC-2023.png
CATEGORIES:ENEIC
LOCATION:https://g.co/kgs/Xbejpw
END:VEVENT
BEGIN:VTIMEZONE
TZID:Europe/Madrid
X-LIC-LOCATION:Europe/Madrid
BEGIN:STANDARD
DTSTART:20221030T020000
TZOFFSETFROM:+0200
TZOFFSETTO:+0100
TZNAME:CET
END:STANDARD
END:VTIMEZONE
END:VCALENDAR