BEGIN:VCALENDAR
VERSION:2.0
PRODID:-//wp-events-plugin.com//6.6.4.4//EN
TZID:Europe/Madrid
X-WR-TIMEZONE:Europe/Madrid
BEGIN:VEVENT
UID:171@caminoscantabria.com
DTSTART;TZID=Europe/Madrid:20251214T183000
DTEND;TZID=Europe/Madrid:20251214T183000
DTSTAMP:20251211T105929Z
URL:https://caminoscantabria.com/events/fiesta-de-navidad-de-la-demarcacio
 n/
SUMMARY:Fiesta de navidad de la Demarcación
DESCRIPTION:Se acerca la Navidad y un año más la Demarcación de Cantab
 ria del Colegio de Ingenieros de Caminos\, Canales y Puertos quiere celebr
 arla con sus colegiados. Y para ello\, ha organizado el 14 de diciembre
  una tarde mágica\, llena de ilusión\, sorpresas y buenos momentos
 . Será a las 18.30 horas en el Hotel Chiqui.\n\n&nbsp\;\n\nINFORMACIÓ
 N E INSCRIPCIONES
ATTACH;FMTTYPE=image/jpeg:https://caminoscantabria.com/wp-content/uploads/
 2025/11/portada-web-navidad.jpg
CATEGORIES:Navidad
END:VEVENT
BEGIN:VTIMEZONE
TZID:Europe/Madrid
X-LIC-LOCATION:Europe/Madrid
BEGIN:STANDARD
DTSTART:20251026T020000
TZOFFSETFROM:+0200
TZOFFSETTO:+0100
TZNAME:CET
END:STANDARD
END:VTIMEZONE
END:VCALENDAR