BEGIN:VCALENDAR
VERSION:2.0
PRODID:-//wp-events-plugin.com//6.6.4.4//EN
TZID:Europe/Madrid
X-WR-TIMEZONE:Europe/Madrid
BEGIN:VEVENT
UID:71@caminoscantabria.com
DTSTART;TZID=Europe/Madrid:20241216T180000
DTEND;TZID=Europe/Madrid:20241216T210000
DTSTAMP:20241208T232108Z
URL:https://caminoscantabria.com/events/foro-enlaza-cantabria-inundaciones
 -y-la-gestion-del-riesgo/
SUMMARY:Foro ENLAZA Cantabria: Inundaciones y la gestión del riesgo
DESCRIPTION:La Demarcación de Cantabria del Colegio de Ingenieros de Camin
 os\, Canales y Puertos celebrará un nuevo Foro ENLAZA que analizará la
 s inundaciones y la gestión de riesgos de la mano de técnicos experto
 s en la materia.\n\nTendrá lugar el próximo lunes 16 de diciembre\, a
  partir de las 18.00 horas\, en el Salón de Actos de la Fundación Bot
 ín (calle Pedruca\, 1\, Santander).\n\nEn está jornada formativa se exp
 licarán los fenómenos meteorológicos y los procesos hidrológicos cau
 santes de inundaciones.\n\nAdemás\, se hablará de infraestructuras hidr
 áulicas y de cómo gestionar el riesgo de inundación para reducir los i
 mpactos negativos de estos sucesos cada vez más severos.\n\nLa cita es de
  acceso libre hasta completar aforo.
ATTACH;FMTTYPE=image/jpeg:https://caminoscantabria.com/wp-content/uploads/
 2024/12/Cartel_Riesgo-Inundaciones-1.png
CATEGORIES:Foro ENLAZA
END:VEVENT
BEGIN:VTIMEZONE
TZID:Europe/Madrid
X-LIC-LOCATION:Europe/Madrid
BEGIN:STANDARD
DTSTART:20241027T020000
TZOFFSETFROM:+0200
TZOFFSETTO:+0100
TZNAME:CET
END:STANDARD
END:VTIMEZONE
END:VCALENDAR