BEGIN:VCALENDAR
VERSION:2.0
PRODID:-//wp-events-plugin.com//6.6.4.4//EN
TZID:Europe/Madrid
X-WR-TIMEZONE:Europe/Madrid
BEGIN:VEVENT
UID:114@caminoscantabria.com
DTSTART;TZID=Europe/Madrid:20250531T000000
DTEND;TZID=Europe/Madrid:20250531T000000
DTSTAMP:20250403T103135Z
URL:https://caminoscantabria.com/events/ingebike/
SUMMARY:Ingebike
DESCRIPTION:Ingebike
CATEGORIES:Ciclo de visitas a obras
END:VEVENT
BEGIN:VTIMEZONE
TZID:Europe/Madrid
X-LIC-LOCATION:Europe/Madrid
BEGIN:DAYLIGHT
DTSTART:20250330T030000
TZOFFSETFROM:+0100
TZOFFSETTO:+0200
TZNAME:CEST
END:DAYLIGHT
END:VTIMEZONE
END:VCALENDAR