BEGIN:VCALENDAR
VERSION:2.0
PRODID:-//wp-events-plugin.com//6.6.4.4//EN
TZID:Europe/Madrid
X-WR-TIMEZONE:Europe/Madrid
BEGIN:VEVENT
UID:167@caminoscantabria.com
DTSTART;TZID=Europe/Madrid:20251118T000000
DTEND;TZID=Europe/Madrid:20251118T000000
DTSTAMP:20251029T110842Z
URL:https://caminoscantabria.com/events/jornada-tecnica-cargadero-de-dicio
 /
SUMMARY:Jornada Técnica Cargadero de Dício en Castro
DESCRIPTION:
CATEGORIES:Actividades
END:VEVENT
BEGIN:VTIMEZONE
TZID:Europe/Madrid
X-LIC-LOCATION:Europe/Madrid
BEGIN:STANDARD
DTSTART:20251026T020000
TZOFFSETFROM:+0200
TZOFFSETTO:+0100
TZNAME:CET
END:STANDARD
END:VTIMEZONE
END:VCALENDAR