BEGIN:VCALENDAR
VERSION:2.0
PRODID:-//wp-events-plugin.com//6.6.4.4//EN
TZID:Europe/Madrid
X-WR-TIMEZONE:Europe/Madrid
BEGIN:VEVENT
UID:21@caminoscantabria.com
DTSTART;TZID=Europe/Madrid:20230824T190000
DTEND;TZID=Europe/Madrid:20230824T210000
DTSTAMP:20230822T152103Z
URL:https://caminoscantabria.com/events/la-edad-de-plata-de-la-cultura-esp
 anola-augusto-gonzalez-de-linares-3/
SUMMARY:La Edad de Plata de la Cultura Española: Augusto González de Lina
 res
DESCRIPTION:La Edad de Plata de la Cultura Española: Augusto González de 
 Linares: Homenaje de la Sociedad Cántabra de Escritores en el Ecomuseo de
 l valle de Cabuérniga.\n\nClausura del homenaje\n\nConferencia: "Sueños 
 de libertad: la Institución Libre de Enseñanza"\n\nA cargo de Pedro Cres
 po de Lara (UCM\, Estela de Oro de las Letras de Cantabria)\n\n&nbsp\;\n\n
ATTACH;FMTTYPE=image/jpeg:https://caminoscantabria.com/wp-content/uploads/
 2023/08/IMG-20230731-WA0004-1.jpg
CATEGORIES:Actividades,Charla
END:VEVENT
BEGIN:VTIMEZONE
TZID:Europe/Madrid
X-LIC-LOCATION:Europe/Madrid
BEGIN:DAYLIGHT
DTSTART:20230326T030000
TZOFFSETFROM:+0100
TZOFFSETTO:+0200
TZNAME:CEST
END:DAYLIGHT
END:VTIMEZONE
END:VCALENDAR