BEGIN:VCALENDAR
VERSION:2.0
PRODID:-//wp-events-plugin.com//6.6.4.4//EN
TZID:Europe/Madrid
X-WR-TIMEZONE:Europe/Madrid
BEGIN:VEVENT
UID:66@caminoscantabria.com
DTSTART;TZID=Europe/Madrid:20240924T000000
DTEND;TZID=Europe/Madrid:20240924T000000
DTSTAMP:20241016T220808Z
URL:https://caminoscantabria.com/events/participacion-en-la-inauguracion-d
 e-la-feria-innotrans/
SUMMARY:Participación en la inauguración de la feria InnoTrans
DESCRIPTION:El día 24 de septiembre la vicedecana\, Conchi Ortega\, ha par
 ticipado en Berlín en la inauguración de la feria internacional InnoTran
 s junto al ministro de Transporte y Movilidad Sostenible\, Óscar Puente. 
 Este evento\, que se ha celebrado del 24 al 27 de septiembre\, está espec
 ializado en tecnología del transporte ferroviario y en él se han podido 
 conocer los últimos avances en digitalización y en la propulsión limpia
  para el transporte público.
ATTACH;FMTTYPE=image/jpeg:https://caminoscantabria.com/wp-content/uploads/
 2024/10/noticia-5.jpeg
CATEGORIES:Actividades Junta Rectora
END:VEVENT
BEGIN:VTIMEZONE
TZID:Europe/Madrid
X-LIC-LOCATION:Europe/Madrid
BEGIN:DAYLIGHT
DTSTART:20240331T030000
TZOFFSETFROM:+0100
TZOFFSETTO:+0200
TZNAME:CEST
END:DAYLIGHT
END:VTIMEZONE
END:VCALENDAR