BEGIN:VCALENDAR
VERSION:2.0
PRODID:-//wp-events-plugin.com//6.6.4.4//EN
TZID:Europe/Madrid
X-WR-TIMEZONE:Europe/Madrid
BEGIN:VEVENT
UID:28@caminoscantabria.com
DTSTART;TZID=Europe/Madrid:20231108T100000
DTEND;TZID=Europe/Madrid:20231108T110000
DTSTAMP:20231030T100114Z
URL:https://caminoscantabria.com/events/presentacion-del-libro-de-fernando
 -canizallos-contratos-para-la-construccion-y-explotacion-de-obras-y-la-pre
 stacion-de-servicios/
SUMMARY:Presentación del libro de Fernando Cañizal 'Los contratos para la
  construcción y explotación de obras y la prestación de servicios'
DESCRIPTION:El Aula Magna de la Escuela de Caminos de la Universidad de Can
 tabria (UC) acogerá la presentación del libro Los contratos para la con
 strucción y explotación de obras y la prestación de servicios pertenec
 iente a la colección Textos Universitarios de la editorial UC y cuyo auto
 r es Fernando Cañizal Berini. El evento será el miércoles 8 de noviemb
 re a las 10:00 horas.\n\nLa presentación\, con una duración aproximada 
 de una hora\, contará con la presencia del autor\, el Vicerrector de Tran
 sferencia del Conocimiento y Emprendimiento\, Daniel Pérez\, y otras auto
 ridades y representantes regionales.\n\n&nbsp\;\n\nMás información 
ATTACH;FMTTYPE=image/jpeg:https://caminoscantabria.com/wp-content/uploads/
 2023/10/libro-fernando-carrizal.jpg
CATEGORIES:Actividades
END:VEVENT
BEGIN:VTIMEZONE
TZID:Europe/Madrid
X-LIC-LOCATION:Europe/Madrid
BEGIN:STANDARD
DTSTART:20231029T020000
TZOFFSETFROM:+0200
TZOFFSETTO:+0100
TZNAME:CET
END:STANDARD
END:VTIMEZONE
END:VCALENDAR