BEGIN:VCALENDAR
VERSION:2.0
PRODID:-//wp-events-plugin.com//6.6.4.4//EN
TZID:Europe/Madrid
X-WR-TIMEZONE:Europe/Madrid
BEGIN:VEVENT
UID:113@caminoscantabria.com
DTSTART;TZID=Europe/Madrid:20250629T100000
DTEND;TZID=Europe/Madrid:20250629T200000
DTSTAMP:20250325T112403Z
URL:https://caminoscantabria.com/events/semana-de-la-ingenieria-de-caminos
 -8/
SUMMARY:Semana de la Ingeniería de Caminos
DESCRIPTION:Semana de la Ingeniería de Caminos
CATEGORIES:Semana de la Ingeniería de Caminos
END:VEVENT
BEGIN:VTIMEZONE
TZID:Europe/Madrid
X-LIC-LOCATION:Europe/Madrid
BEGIN:DAYLIGHT
DTSTART:20250330T030000
TZOFFSETFROM:+0100
TZOFFSETTO:+0200
TZNAME:CEST
END:DAYLIGHT
END:VTIMEZONE
END:VCALENDAR