BEGIN:VCALENDAR
VERSION:2.0
PRODID:-//wp-events-plugin.com//6.6.4.4//EN
TZID:Europe/Madrid
X-WR-TIMEZONE:Europe/Madrid
BEGIN:VEVENT
UID:34@caminoscantabria.com
DTSTART;TZID=Europe/Madrid:20240125T183000
DTEND;TZID=Europe/Madrid:20240125T210000
DTSTAMP:20240122T084559Z
URL:https://caminoscantabria.com/events/soluciones-ingenieriles-a-riesgos-
 extraordinarios/
SUMMARY:Soluciones ingenieriles a riesgos extraordinarios
DESCRIPTION:La Demarcación de Cantabria del Colegio de Ingenieros de Cami
 nos\, Canales y Puertos organiza una jornada sobre la gestión y planifi
 cación llevada a cabo en la reconstrucción de las infraestructuras de la
  Isla de La Palma tras la erupción del Volcán gestionada por la Demar
 cación de Carreteras del Estado en Cantabria.\n\nNOTICIA E INSCRIPCIONES
  \n\n&nbsp\;
ATTACH;FMTTYPE=image/jpeg:https://caminoscantabria.com/wp-content/uploads/
 2024/01/volvan-palma-ciccp-e1705047754206.png
CATEGORIES:Actividades,Charla,Formación,Foro ENLAZA
END:VEVENT
BEGIN:VTIMEZONE
TZID:Europe/Madrid
X-LIC-LOCATION:Europe/Madrid
BEGIN:STANDARD
DTSTART:20231029T020000
TZOFFSETFROM:+0200
TZOFFSETTO:+0100
TZNAME:CET
END:STANDARD
END:VTIMEZONE
END:VCALENDAR