BEGIN:VCALENDAR
VERSION:2.0
PRODID:-//wp-events-plugin.com//6.6.4.4//EN
TZID:Europe/Madrid
X-WR-TIMEZONE:Europe/Madrid
BEGIN:VEVENT
UID:83@caminoscantabria.com
DTSTART;TZID=Europe/Madrid:20250319T000000
DTEND;TZID=Europe/Madrid:20250319T000000
DTSTAMP:20250321T002714Z
URL:https://caminoscantabria.com/events/visita-al-ihcantabria-para-colegia
 dos/
SUMMARY:Visita al IHCantabria para colegiados
DESCRIPTION:Visita al IHCantabria para colegiados\n\nNOTICIA
CATEGORIES:Actividades
END:VEVENT
BEGIN:VTIMEZONE
TZID:Europe/Madrid
X-LIC-LOCATION:Europe/Madrid
BEGIN:STANDARD
DTSTART:20241027T020000
TZOFFSETFROM:+0200
TZOFFSETTO:+0100
TZNAME:CET
END:STANDARD
END:VTIMEZONE
END:VCALENDAR