BEGIN:VCALENDAR
VERSION:2.0
PRODID:-//wp-events-plugin.com//6.6.4.4//EN
TZID:Europe/Madrid
X-WR-TIMEZONE:Europe/Madrid
BEGIN:VEVENT
UID:129@caminoscantabria.com
DTSTART;TZID=Europe/Madrid:20251031T000000
DTEND;TZID=Europe/Madrid:20251031T000000
DTSTAMP:20251024T221404Z
URL:https://caminoscantabria.com/events/visita-al-puerto-de-santander/
SUMMARY:Visita al Puerto de Santander
DESCRIPTION:La Demarcación de Cantabria del Colegio de Ingenieros de Camin
 os\, Canales y Puertos ha organizado para el día 31 de octubre una visit
 a al Puerto de Santander.\n\n&nbsp\;\n\nINFORMACIÓN
ATTACH;FMTTYPE=image/jpeg:https://caminoscantabria.com/wp-content/uploads/
 2025/10/IMG-20251022-WA0000.jpg
CATEGORIES:Actividades
END:VEVENT
BEGIN:VTIMEZONE
TZID:Europe/Madrid
X-LIC-LOCATION:Europe/Madrid
BEGIN:STANDARD
DTSTART:20251026T020000
TZOFFSETFROM:+0200
TZOFFSETTO:+0100
TZNAME:CET
END:STANDARD
END:VTIMEZONE
END:VCALENDAR