BEGIN:VCALENDAR
VERSION:2.0
PRODID:-//wp-events-plugin.com//6.6.4.4//EN
TZID:Europe/Madrid
X-WR-TIMEZONE:Europe/Madrid
BEGIN:VEVENT
UID:82@caminoscantabria.com
DTSTART;TZID=Europe/Madrid:20250328T100000
DTEND;TZID=Europe/Madrid:20250328T100000
DTSTAMP:20250325T105328Z
URL:https://caminoscantabria.com/events/visita-de-obra-ciclo-integral-del-
 agua-torrelavega/
SUMMARY:Visita de Obra Ciclo Integral del Agua Torrelavega
DESCRIPTION:Visita de Obra Ciclo Integral del Agua Torrelavega\n\nNOTICIA
CATEGORIES:Ciclo de visitas a obras
END:VEVENT
BEGIN:VTIMEZONE
TZID:Europe/Madrid
X-LIC-LOCATION:Europe/Madrid
BEGIN:STANDARD
DTSTART:20241027T020000
TZOFFSETFROM:+0200
TZOFFSETTO:+0100
TZNAME:CET
END:STANDARD
END:VTIMEZONE
END:VCALENDAR