BEGIN:VCALENDAR
VERSION:2.0
PRODID:-//wp-events-plugin.com//6.6.4.4//EN
TZID:Europe/Madrid
X-WR-TIMEZONE:Europe/Madrid
BEGIN:VEVENT
UID:32@caminoscantabria.com
DTSTART;TZID=Europe/Madrid:20231122T050000
DTEND;TZID=Europe/Madrid:20231122T230000
DTSTAMP:20231031T105849Z
URL:https://caminoscantabria.com/events/visita-gratuita-a-smopyc/
SUMMARY:Visita gratuita a SMOPYC
DESCRIPTION:Los días del 22 al 25 de noviembre se celebrará la nueva ed
 ición de la Feria Smopyc en Zaragoza\, la feria de maquinaria de obras
  públicas\, construcción y minera más importante de España. La Escuel
 a de Caminos de la Universidad de Cantabria da la oportunidad a los coleg
 iados de la Demarcación de Cantabria del Colegio de Caminos de asistir 
 al evento el miércoles 22.\n\n&nbsp\;\n\nMÁS INFORMACIÓN
ATTACH;FMTTYPE=image/jpeg:https://caminoscantabria.com/wp-content/uploads/
 2023/10/smpyc-web.png
CATEGORIES:Actividades
END:VEVENT
BEGIN:VTIMEZONE
TZID:Europe/Madrid
X-LIC-LOCATION:Europe/Madrid
BEGIN:STANDARD
DTSTART:20231029T020000
TZOFFSETFROM:+0200
TZOFFSETTO:+0100
TZNAME:CET
END:STANDARD
END:VTIMEZONE
END:VCALENDAR