BEGIN:VCALENDAR
VERSION:2.0
PRODID:-//wp-events-plugin.com//6.6.4.4//EN
TZID:Europe/Madrid
X-WR-TIMEZONE:Europe/Madrid
BEGIN:VEVENT
UID:53@caminoscantabria.com
DTSTART;TZID=Europe/Madrid;VALUE=DATE:20240715
DTEND;TZID=Europe/Madrid;VALUE=DATE:20240716
DTSTAMP:20240603T212630Z
URL:https://caminoscantabria.com/events/votacion-elecciones-ciccp-y-ciccp-
 cantabria/
SUMMARY:VOTACIÓN Elecciones CICCP y CICCP Cantabria
DESCRIPTION:Votación por comparecencia personal y Escrutinio.\n\nELECCIONE
 S 2024
ATTACH;FMTTYPE=image/jpeg:https://caminoscantabria.com/wp-content/uploads/
 2024/04/elecciones_colegio_2024.png
CATEGORIES:Elecciones 2024
END:VEVENT
BEGIN:VTIMEZONE
TZID:Europe/Madrid
X-LIC-LOCATION:Europe/Madrid
BEGIN:DAYLIGHT
DTSTART:20240331T030000
TZOFFSETFROM:+0100
TZOFFSETTO:+0200
TZNAME:CEST
END:DAYLIGHT
END:VTIMEZONE
END:VCALENDAR